BEGIN:VCALENDAR
VERSION:2.0
PRODID:spatie/icalendar-generator
DESCRIPTION:Events from Health Care For All
X-WR-CALDESC:Events from Health Care For All
REFRESH-INTERVAL;VALUE=DURATION:PT1440M
X-PUBLISHED-TTL:PT1440M
BEGIN:VTIMEZONE
TZID:America/New_York
BEGIN:STANDARD
DTSTART:20251102T020000Z
TZOFFSETFROM:-0400
TZOFFSETTO:-0500
END:STANDARD
BEGIN:DAYLIGHT
DTSTART:20260308T020000Z
TZOFFSETFROM:-0500
TZOFFSETTO:-0400
END:DAYLIGHT
END:VTIMEZONE
BEGIN:VTIMEZONE
TZID:UTC
BEGIN:STANDARD
DTSTART:20250726T082119Z
TZOFFSETFROM:+0000
TZOFFSETTO:+0000
END:STANDARD
END:VTIMEZONE
BEGIN:VEVENT
UID:655-378
DTSTAMP:20260422T082119Z
SUMMARY:Chelsea Enrollment Event
LOCATION:
ORGANIZER;CN=Leslie Diaz:MAILTO:ldiaz@hcfama.org
RRULE:FREQ=WEEKLY;UNTIL=20260131T000000Z
DTSTART;TZID=America/New_York:20260130T090000
DTEND;TZID=America/New_York:20260130T120000
X-ALT-DESC;FMTTYPE=TEXT/HTML:<p>Food Distribution + Enrollment Assistance<b />\nHosted by: La Colaborativa / MGH - Puente de Salud Clinic<br />\n
 Location: Survival Center\, located at 63 Sixth Street\, Chelsea\, MA 0215
 0<br />\nDate/Time: Fridays (9am-12pm)</p>\n
CATEGORIES:CAC Event Schedule
URL;VALUE=URI:https://hcfama.org/mc-events/chelsea-enrollment-event-5/?mc_i
 d=655
METHOD:PUBLISH
END:VEVENT
END:VCALENDAR