BEGIN:VCALENDAR
VERSION:2.0
PRODID:spatie/icalendar-generator
DESCRIPTION:Events from Health Care For All
X-WR-CALDESC:Events from Health Care For All
REFRESH-INTERVAL;VALUE=DURATION:PT1440M
X-PUBLISHED-TTL:PT1440M
BEGIN:VTIMEZONE
TZID:America/New_York
BEGIN:DAYLIGHT
DTSTART:20230312T020000Z
TZOFFSETFROM:-0500
TZOFFSETTO:-0400
END:DAYLIGHT
BEGIN:STANDARD
DTSTART:20231105T020000Z
TZOFFSETFROM:-0400
TZOFFSETTO:-0500
END:STANDARD
BEGIN:DAYLIGHT
DTSTART:20240310T020000Z
TZOFFSETFROM:-0500
TZOFFSETTO:-0400
END:DAYLIGHT
END:VTIMEZONE
BEGIN:VTIMEZONE
TZID:UTC
BEGIN:STANDARD
DTSTART:20250726T083357Z
TZOFFSETFROM:+0000
TZOFFSETTO:+0000
END:STANDARD
END:VTIMEZONE
BEGIN:VEVENT
UID:16-16
DTSTAMP:20260422T083357Z
SUMMARY:ETHOS Enrollment Event
LOCATION:ETHOS Elder Services  555 Armory St  Jamaica Plain MA
ORGANIZER;CN=Davis Jackson:MAILTO:djackson@hcfama.org
DTSTART;TZID=America/New_York:20231115T100000
DTEND;TZID=America/New_York:20231115T150000
X-ALT-DESC;FMTTYPE=TEXT/HTML:<p>Call 617-522-9270 to register.</p>\n
CATEGORIES:CAC Event Schedule
URL;VALUE=URI:https://hcfama.org/mc-events/ethos-enrollment-event-2/
METHOD:PUBLISH
END:VEVENT
END:VCALENDAR